BEGIN:VCALENDAR
VERSION:2.0
PRODID:-// - ECPv6.15.20//NONSGML v1.0//EN
CALSCALE:GREGORIAN
METHOD:PUBLISH
X-ORIGINAL-URL:https://avalanchesafetyrescue.com
X-WR-CALDESC:Eventos para 
REFRESH-INTERVAL;VALUE=DURATION:PT1H
X-Robots-Tag:noindex
X-PUBLISHED-TTL:PT1H
BEGIN:VTIMEZONE
TZID:UTC
BEGIN:STANDARD
TZOFFSETFROM:+0000
TZOFFSETTO:+0000
TZNAME:UTC
DTSTART:20250101T000000
END:STANDARD
END:VTIMEZONE
BEGIN:VEVENT
DTSTART;VALUE=DATE:20260302
DTEND;VALUE=DATE:20260305
DTSTAMP:20260422T111600
CREATED:20230109T110146Z
LAST-MODIFIED:20260120T173426Z
UID:850-1772409600-1772668799@avalanchesafetyrescue.com
SUMMARY:Seguretat en terreny d'allaus sta1 ACNA
DESCRIPTION:L’objectiu del curs és proveir l’alumne amb les eines i els coneixements necessaris per moure’s amb seguretat en terreny d’allaus. \nObjectius: \n\nReconèixer i evitar el terreny d’allaus.\nSaber preparar una sortida (BPA\, meteorología\, etc).\nEntendre la relació entre l’estratificació de la neu i el perill d’allaus.\nConèixer i emprar les tècniques de reducció del risc.\nConèixer i emprar les tècniques bàsiques rescat.\n\nContinguts: \n\nTerreny d’allaus i trampes del terreny.\nTraçat de rutes segures.\nEstratificació de la neu.\nCondicions actuals de la neu i efectes de la meteorologia (pronòstic).\nPreparació d’una sortida i tècniques de reducció del risc.\nEl factor humà en accidents per allau.\nRescat bàsic (DVA\, pala\, sonda i organització).\n\nRequisits d’admissió: \n\nFormació prèvia: cap. Es recomana haber assistit a alguna xerrada o haver llegit alguna publicació.\nCondició física: ser capaç de circular amb facilitat per la neu (sortides amb desnivells d’entre 500 i 1000 m)\n\nDuració i estructura: \n18 hores  dia 1\, tarda 3 hTeoria; dia 2\, 6 h Practica + 3hTeoria; dia3 \, 6hPractica. \nMaterial necessari: \nRoba adequada\, esquís o raquetes per desplaçar-se\, DVA\, pala i sonda.
URL:https://avalanchesafetyrescue.com/curs/seguretat-en-terreny-dallaus-sta1-acna-2
LOCATION:Pas de la Casa\, Andorra
CATEGORIES:STA1
ATTACH;FMTTYPE=image/jpeg:https://avalanchesafetyrescue.com/wp-content/uploads/2022/01/IMG_6501.jpg
ORGANIZER;CN="RUBEN BLANCO":MAILTO:info@avalanchesafetyrescue.com
END:VEVENT
BEGIN:VEVENT
DTSTART;VALUE=DATE:20260228
DTEND;VALUE=DATE:20260302
DTSTAMP:20260422T111600
CREATED:20251217T111732Z
LAST-MODIFIED:20260202T172951Z
UID:855-1772236800-1772409599@avalanchesafetyrescue.com
SUMMARY:Seguretat en terreny d'allaus STA1 ACNA
DESCRIPTION:L’objectiu del curs és proveir l’alumne amb les eines i els coneixements necessaris per moure’s amb seguretat en terreny d’allaus. \nObjectius: \n\nReconèixer i evitar el terreny d’allaus.\nSaber preparar una sortida (BPA\, meteorología\, etc).\nEntendre la relació entre l’estratificació de la neu i el perill d’allaus.\nConèixer i emprar les tècniques de reducció del risc.\nConèixer i emprar les tècniques bàsiques rescat.\n\nContinguts: \n\nTerreny d’allaus i trampes del terreny.\nTraçat de rutes segures.\nEstratificació de la neu.\nCondicions actuals de la neu i efectes de la meteorologia (pronòstic).\nPreparació d’una sortida i tècniques de reducció del risc.\nEl factor humà en accidents per allau.\nRescat bàsic (DVA\, pala\, sonda i organització).\n\nRequisits d’admissió: \n\nFormació prèvia: cap. Es recomana haber assistit a alguna xerrada o haver llegit alguna publicació.\nCondició física: ser capaç de circular amb facilitat per la neu (sortides amb desnivells d’entre 500 i 1000 m)\n\nDuració i estructura: STA 1  18 hores.  Dia 27 inici a les 18h \, tarda 3 hTeoria presencial on.line dia 28 \, 6 h Practica + 3hTeoria; dia 1 \, 6hPractica. \nMaterial necessari: \nRoba adequada\, esquís o raquetes per desplaçar-se\, DVA\, pala i sonda.
URL:https://avalanchesafetyrescue.com/curs/seguretat-terreny-allaus-sta1-acna
LOCATION:Cerdanya\, Spain
CATEGORIES:STA1
ATTACH;FMTTYPE=image/jpeg:https://avalanchesafetyrescue.com/wp-content/uploads/2020/11/IMG-20200117-WA0013.jpg
ORGANIZER;CN="RUBEN BLANCO":MAILTO:info@avalanchesafetyrescue.com
END:VEVENT
BEGIN:VEVENT
DTSTART;TZID=UTC:20260221T080000
DTEND;TZID=UTC:20260222T170000
DTSTAMP:20260422T111600
CREATED:20260120T171824Z
LAST-MODIFIED:20260120T171917Z
UID:1471-1771660800-1771779600@avalanchesafetyrescue.com
SUMMARY:Curs STA 1 seguretat en terreny d'allaus
DESCRIPTION:Formació essencial en seguretat i gestió del risc d’allaus\n\nEl Curs STA Nivell 1 (ACNA) proporciona els fonaments tècnics\nper entendre el comportament del mantell nival\, identificar situacions\nd’inestabilitat i aplicar un sistema de presa de decisions segur en terreny\nd’allaus. Una formació estructurada\, pràctica i alineada amb els estàndards\neuropeus (EAWS).\n\nQuè aprendràs?\n\nInterpretar operativament el Butlletí de Perill d’Allaus (BPA).\nReconèixer els problemes típics d’allaus i la seva distribució.\nAnalitzar el terreny: pendent\, orientació\, ancoratges i conseqüències.\nDetectar senyals d’inestabilitat del mantell nival sobre el terreny.\nAplicar una metodologia de presa de decisions a escala regional\, de muntanya i de vessant.\nExecutar un rescat amb DVA\, sonda i pala optimitzant temps i tècnica.\n\n\n\nA qui va dirigit?\nEl curs està pensat per a: \n\nEsquiadors de muntanya i splitboarders.\nFreeriders que es moguin en terreny no trepitjat.\nGuies i professionals que treballen en entorns hivernals.\nPersones que volen adquirir criteri propi en terreny d’allaus.\n\n\n\nMetodologia\nCombina teoria i pràctica intensiva: \n\nSessions teòriques amb suport visual i casos reals.\nLectura de terreny i aplicació del BPA sobre el mapa i sobre el camp.\nIdentificació de problemes típics i senyals d’inestabilitat.\nSimulacions de rescat amb DVA\, sonda i pala en escenaris realistes.\n\n\n\nInformació pràctica\n\nDurada: 18 hores (  6 h teoria + 12 h pràctica).\nDates:  3 hores teorica on.line la setmana previa al   21 i  22 de febrer  2026\nLloc: Port de la Bonaigua \, Alt Aneu .\nFormat: Curs en grup reduït per optimitzar l’aprenentatge.\nMaterial necessari: DVA (3 antenes)\, sonda\, pala\, esquí de muntanya o splitboard\, equip d’hivern i motxilla.\nNivell previ: no cal experiència prèvia en nivologia.es recomana nivell minim d’esquí de muntanya\, ser capaç de esquiar i despla amb tots tipus de neus amb seguretat .\n\n\n\nInscripcions;\nLes places són limitades per garantir la qualitat i la seguretat de la formació. \nPer a més informació i inscripcions: \n\nContacte: [RUBEN BLANCO]\nCorreu electrònic: [info@avalanchesafetyrescue.com]\nTelèfon / WhatsApp: [+34633572485]\n\n\nFormació ACNA — La formació salva vides.
URL:https://avalanchesafetyrescue.com/curs/curs-sta-1-seguretat-en-terreny-dallaus
LOCATION:port de la Bonaigua\, Spain
ATTACH;FMTTYPE=image/jpeg:https://avalanchesafetyrescue.com/wp-content/uploads/2020/11/IMG-20200117-WA0013.jpg
END:VEVENT
BEGIN:VEVENT
DTSTART;VALUE=DATE:20260217
DTEND;VALUE=DATE:20260219
DTSTAMP:20260422T111600
CREATED:20251205T154354Z
LAST-MODIFIED:20260120T173204Z
UID:915-1771286400-1771459199@avalanchesafetyrescue.com
SUMMARY:Seguretat en Terreny d'allaus STA1 ACNA
DESCRIPTION:L’objectiu del curs és proveir l’alumne amb les eines i els coneixements necessaris per moure’s amb seguretat en terreny d’allaus. \nObjectius: \n\nReconèixer i evitar el terreny d’allaus.\nSaber preparar una sortida (BPA\, meteorología\, etc).\nEntendre la relació entre l’estratificació de la neu i el perill d’allaus.\nConèixer i emprar les tècniques de reducció del risc.\nConèixer i emprar les tècniques bàsiques rescat.\n\nContinguts: \n\nTerreny d’allaus i trampes del terreny.\nTraçat de rutes segures.\nEstratificació de la neu.\nCondicions actuals de la neu i efectes de la meteorologia (pronòstic).\nPreparació d’una sortida i tècniques de reducció del risc.\nEl factor humà en accidents per allau.\nRescat bàsic (DVA\, pala\, sonda i organització).\n\nRequisits d’admissió: \n\nFormació prèvia: cap. Es recomana haber assistit a alguna xerrada o haver llegit alguna publicació.\nCondició física: ser capaç de circular amb facilitat per la neu (sortides amb desnivells d’entre 500 i 1000 m)\n\nDuració i estructura: \n18 hores  dia 1\, tarda 3 hTeoria on.line ; dia 2\, 6 h Practica + 3hTeoria; dia3 \, 6hPractica. \nMaterial necessari: \nRoba adequada\, esquís o raquetes per desplaçar-se\, DVA\, pala i sonda.\n \n 
URL:https://avalanchesafetyrescue.com/curs/seguretat-en-terreny-dallaus-sta1-acna
LOCATION:Pas de la Casa\, Andorra
CATEGORIES:STA1
ATTACH;FMTTYPE=image/jpeg:https://avalanchesafetyrescue.com/wp-content/uploads/2020/02/IMG_20190206_102955-scaled.jpg
ORGANIZER;CN="RUBEN BLANCO":MAILTO:info@avalanchesafetyrescue.com
END:VEVENT
BEGIN:VEVENT
DTSTART;VALUE=DATE:20260217
DTEND;VALUE=DATE:20260219
DTSTAMP:20260422T111600
CREATED:20230109T153724Z
LAST-MODIFIED:20260202T135917Z
UID:912-1771286400-1771459199@avalanchesafetyrescue.com
SUMMARY:seguretat en Terreny d'allaus STA1 ACNA
DESCRIPTION:L’objectiu del curs és proveir l’alumne amb les eines i els coneixements necessaris per moure’s amb seguretat en terreny d’allaus. \nObjectius: \n\nReconèixer i evitar el terreny d’allaus.\nSaber preparar una sortida (BPA\, meteorología\, etc).\nEntendre la relació entre l’estratificació de la neu i el perill d’allaus.\nConèixer i emprar les tècniques de reducció del risc.\nConèixer i emprar les tècniques bàsiques rescat.\n\nContinguts: \n\nTerreny d’allaus i trampes del terreny.\nTraçat de rutes segures.\nEstratificació de la neu.\nCondicions actuals de la neu i efectes de la meteorologia (pronòstic).\nPreparació d’una sortida i tècniques de reducció del risc.\nEl factor humà en accidents per allau.\nRescat bàsic (DVA\, pala\, sonda i organització).\n\nRequisits d’admissió: \n\nFormació prèvia: cap. Es recomana haber assistit a alguna xerrada o haver llegit alguna publicació.\nCondició física: ser capaç de circular amb facilitat per la neu (sortides amb desnivells d’entre 500 i 1000 m)\n\nDuració i estructura:  divendres 27 inci curs a les 18h a Bellver de Cerdanya 28 Febrer  1 de Març  \n18 hores  dia 1\, tarda 3 hTeoria presencial on\,line ; dia 28\, 6 h Practica + 3hTeoria; dia \, 6hPractica. \nMaterial necessari: \nRoba adequada\, esquís o raquetes per desplaçar-se\, DVA\, pala i sonda.
URL:https://avalanchesafetyrescue.com/curs/cursos-allaus
LOCATION:Cerdanya\, Spain
CATEGORIES:STA1
ATTACH;FMTTYPE=image/jpeg:https://avalanchesafetyrescue.com/wp-content/uploads/2022/02/AdobeStock_30741354-scaled.jpeg
ORGANIZER;CN="RUBEN BLANCO":MAILTO:info@avalanchesafetyrescue.com
END:VEVENT
BEGIN:VEVENT
DTSTART;VALUE=DATE:20260214
DTEND;VALUE=DATE:20260216
DTSTAMP:20260422T111600
CREATED:20251205T112145Z
LAST-MODIFIED:20260120T170534Z
UID:857-1771027200-1771199999@avalanchesafetyrescue.com
SUMMARY:seguretat en terreny d'allaus STA1 ACNA
DESCRIPTION:L’objectiu del curs és proveir l’alumne amb les eines i els coneixements necessaris per moure’s amb seguretat en terreny d’allaus. \nObjectius: \n\nReconèixer i evitar el terreny d’allaus.\nSaber preparar una sortida (BPA\, meteorología\, etc).\nEntendre la relació entre l’estratificació de la neu i el perill d’allaus.\nConèixer i emprar les tècniques de reducció del risc.\nConèixer i emprar les tècniques bàsiques rescat.\n\nContinguts: \n\nTerreny d’allaus i trampes del terreny.\nTraçat de rutes segures.\nEstratificació de la neu.\nCondicions actuals de la neu i efectes de la meteorologia (pronòstic).\nPreparació d’una sortida i tècniques de reducció del risc.\nEl factor humà en accidents per allau.\nRescat bàsic (DVA\, pala\, sonda i organització).\n\nRequisits d’admissió: \n\nFormació prèvia: cap. Es recomana haber assistit a alguna xerrada o haver llegit alguna publicació.\nCondició física: ser capaç de circular amb facilitat per la neu (sortides amb desnivells d’entre 500 i 1000 m)\n\nDuració i estructura: \n18 hores  dia 1\, tarda 3 hTeoria on.line ; dia 2\, 6 h Practica + 3hTeoria; dia3 \, 6hPractica. \nMaterial necessari: \nRoba adequada\, esquís o raquetes per desplaçar-se\, DVA\, pala i sonda.
URL:https://avalanchesafetyrescue.com/curs/seguretat-en-terreny-allaus-sta1-acna
LOCATION:port de la Bonaigua\, Spain
CATEGORIES:STA1
ATTACH;FMTTYPE=image/jpeg:https://avalanchesafetyrescue.com/wp-content/uploads/2022/02/AdobeStock_130687824-scaled.jpeg
ORGANIZER;CN="RUBEN BLANCO":MAILTO:info@avalanchesafetyrescue.com
END:VEVENT
BEGIN:VEVENT
DTSTART;TZID=UTC:20260206T180000
DTEND;TZID=UTC:20260208T153000
DTSTAMP:20260422T111600
CREATED:20251205T203624Z
LAST-MODIFIED:20260120T171225Z
UID:1414-1770400800-1770564600@avalanchesafetyrescue.com
SUMMARY:Curs STA Nivell 1 (ACNA)
DESCRIPTION:Formació essencial en seguretat i gestió del risc d’allaus\n\nEl Curs STA Nivell 1 (ACNA) proporciona els fonaments tècnics\nper entendre el comportament del mantell nival\, identificar situacions\nd’inestabilitat i aplicar un sistema de presa de decisions segur en terreny\nd’allaus. Una formació estructurada\, pràctica i alineada amb els estàndards\neuropeus (EAWS).\n\nQuè aprendràs?\n\nInterpretar operativament el Butlletí de Perill d’Allaus (BPA).\nReconèixer els problemes típics d’allaus i la seva distribució.\nAnalitzar el terreny: pendent\, orientació\, ancoratges i conseqüències.\nDetectar senyals d’inestabilitat del mantell nival sobre el terreny.\nAplicar una metodologia de presa de decisions a escala regional\, de muntanya i de vessant.\nExecutar un rescat amb DVA\, sonda i pala optimitzant temps i tècnica.\n\n\n\nA qui va dirigit?\nEl curs està pensat per a: \n\nEsquiadors de muntanya i splitboarders.\nFreeriders que es moguin en terreny no trepitjat.\nGuies i professionals que treballen en entorns hivernals.\nPersones que volen adquirir criteri propi en terreny d’allaus.\n\n\n\nMetodologia\nCombina teoria i pràctica intensiva: \n\nSessions teòriques amb suport visual i casos reals.\nLectura de terreny i aplicació del BPA sobre el mapa i sobre el camp.\nIdentificació de problemes típics i senyals d’inestabilitat.\nSimulacions de rescat amb DVA\, sonda i pala en escenaris realistes.\n\n\n\nInformació pràctica\n\nDurada: 18 hores (6 h teoria + 12 h pràctica).\nDates: 6 \,7 i 8 de febrer  2026\nLloc: Vall d’Aran\, Salardu\, inici curs divendres 6 a les 18h.\nFormat: Curs en grup reduït per optimitzar l’aprenentatge.\nMaterial necessari: DVA (3 antenes)\, sonda\, pala\, esquí de muntanya o splitboard\, equip d’hivern i motxilla.\nNivell previ: no cal experiència prèvia en nivologia.es recomana nivell minim d’esquí de muntanya\, ser capaç de esquiar i despla amb tots tipus de neus amb seguretat .\n\n\n\nInscripcions;\nLes places són limitades per garantir la qualitat i la seguretat de la formació. \nPer a més informació i inscripcions: \n\nContacte: [RUBEN BLANCO]\nCorreu electrònic: [info@avalanchesafetyrescue.com]\nTelèfon / WhatsApp: [+34633572485]\n\n\nFormació ACNA — La formació salva vides.
URL:https://avalanchesafetyrescue.com/curs/formacio-sta-nivell-1
LOCATION:port de la Bonaigua\, Spain
CATEGORIES:STA1
ORGANIZER;CN="RUBEN BLANCO":MAILTO:info@avalanchesafetyrescue.com
END:VEVENT
BEGIN:VEVENT
DTSTART;VALUE=DATE:20260202
DTEND;VALUE=DATE:20260204
DTSTAMP:20260422T111600
CREATED:20201106T094957Z
LAST-MODIFIED:20260120T165946Z
UID:165-1769990400-1770163199@avalanchesafetyrescue.com
SUMMARY:Seguretat en terreny d'allaus STA 1 ACNA
DESCRIPTION:Objectius: \n\nReconèixer i evitar el terreny d’allaus.\nSaber preparar una sortida (BPA\, meteorología\, etc).\nEntendre la relació entre l’estratificació de la neu i el perill d’allaus.\nConèixer i emprar les tècniques de reducció del risc.\nConèixer i emprar les tècniques bàsiques rescat.\n\nContinguts: \n\nTerreny d’allaus i trampes del terreny.\nTraçat de rutes segures.\nEstratificació de la neu.\nCondicions actuals de la neu i efectes de la meteorologia (pronòstic).\nPreparació d’una sortida i tècniques de reducció del risc.\nEl factor humà en accidents per allau.\nRescat bàsic (DVA\, pala\, sonda i organització).\n\nRequisits d’admissió: \n\nFormació prèvia: cap. Es recomana haber assistit a alguna xerrada o haver llegit alguna publicació.\nCondició física: ser capaç de circular amb facilitat per la neu (sortides amb desnivells d’entre 500 i 1000 m)\n\nDuració i estructura: \n18 hores  dia 1\, tarda 3 hTeoria on.line ; dia 2\, 6 h Practica + 3hTeoria on.line ; dia3 \, 6hPractica. \nMaterial necessari: \nRoba adequada\, esquís o raquetes per desplaçar-se\, DVA\, pala i sonda. \n \n 
URL:https://avalanchesafetyrescue.com/curs/seguretat-en-terreny-allaus-sta-1-acna-rescat
LOCATION:Cerdanya\, Spain
CATEGORIES:STA1
ATTACH;FMTTYPE=image/jpeg:https://avalanchesafetyrescue.com/wp-content/uploads/2020/02/IMG-20170126-WA0023.jpg
ORGANIZER;CN="RUBEN BLANCO":MAILTO:info@avalanchesafetyrescue.com
END:VEVENT
END:VCALENDAR